BEGIN:VCALENDAR
VERSION:2.0
PRODID:-//Magic Valley Arts Council - ECPv6.15.20//NONSGML v1.0//EN
CALSCALE:GREGORIAN
METHOD:PUBLISH
X-ORIGINAL-URL:https://magicvalleyartscouncil.org
X-WR-CALDESC:Events for Magic Valley Arts Council
REFRESH-INTERVAL;VALUE=DURATION:PT1H
X-Robots-Tag:noindex
X-PUBLISHED-TTL:PT1H
BEGIN:VTIMEZONE
TZID:America/Boise
BEGIN:DAYLIGHT
TZOFFSETFROM:-0700
TZOFFSETTO:-0600
TZNAME:MDT
DTSTART:20240310T090000
END:DAYLIGHT
BEGIN:STANDARD
TZOFFSETFROM:-0600
TZOFFSETTO:-0700
TZNAME:MST
DTSTART:20241103T080000
END:STANDARD
BEGIN:DAYLIGHT
TZOFFSETFROM:-0700
TZOFFSETTO:-0600
TZNAME:MDT
DTSTART:20250309T090000
END:DAYLIGHT
BEGIN:STANDARD
TZOFFSETFROM:-0600
TZOFFSETTO:-0700
TZNAME:MST
DTSTART:20251102T080000
END:STANDARD
BEGIN:DAYLIGHT
TZOFFSETFROM:-0700
TZOFFSETTO:-0600
TZNAME:MDT
DTSTART:20260308T090000
END:DAYLIGHT
BEGIN:STANDARD
TZOFFSETFROM:-0600
TZOFFSETTO:-0700
TZNAME:MST
DTSTART:20261101T080000
END:STANDARD
END:VTIMEZONE
BEGIN:VEVENT
DTSTART;VALUE=DATE:20250407
DTEND;VALUE=DATE:20250603
DTSTAMP:20260420T075227
CREATED:20241031T194002Z
LAST-MODIFIED:20241031T194002Z
UID:10000857-1743984000-1748908799@magicvalleyartscouncil.org
SUMMARY:FMG Call for Entry: Magic Moments
DESCRIPTION:APPLICATIONS WILL BE OPENING FOR ‘MAGIC MOMENTS’ ON APRIL 7\, 2025.\nSHOW DATES ARE  JULY 11 – AUGUST 22; APPLICATION DEADLINE JUNE 2\, 2025.\n\n\n\n\n\n\n\n\n\n\n\nYou’re invited to apply to Magic Moments\, an open\, non-themed exhibition celebrating the many talents of our members! This show is exclusively for current Magic Valley Arts Council members and offers an opportunity to showcase the diversity of artistic expression within our community. As a special thank you to our members\, we are waiving the installation fee for this exhibit! Whether your work captures quiet beauty\, bold statements\, or anything in between\, Magic Moments is a chance to share it with others. Join us in making this exhibition a memorable collection of unique perspectives and creative voices. \n\n\n\n\n\n\n\n\n\n\n\n\n\n\n\n\n\n\n\nCLICK HERE TO APPLY: FMG Application Form\n\n\n\n\n\n\n\n\nApplication Information:\n\n\n\n\n\nApplication Deadline: June 2\, 2025\nAll 2D and 3D artists are encouraged to apply.\nEach application may include up to 10 works\, and you may apply up to 3 times for a total of 30 works submitted to the exhibit.\nWorks are reviewed by a Jury Committee\, and all artists selected will be notified in writing on or before June 23.\n\n\n\n\n\nImportant Dates:\n\n\n\n\n\nShow Dates – July 11 – August 22\, 2025\nApplications Open – April 7 – June 2\, 2025\nArtist Acceptance Notification – on or before June 23\nInstallation Fees due – WAIVED for current MVAC Members!\nArtwork Delivery – July 8\, 2025 from 11am – 5pm\nPublic Open House / Artist Reception – July 11\, 2025 from  5-7pm\n\n\n\n\n\nFees:\n\n\n\n\n\nApplication: $20 per 10 works submitted. You may apply up to 3 times per exhibition\, for a total of 30 works submitted per show.\nInstallation: WAIVED for current MVAC Members! Join now for an exclusive opportunity to showcase your work. (Yearly MVAC membership begins at $25 – click here for more info)\n25% MVAC Commission on any works sold during the show.\n\nAll artwork will need to installation ready – framed (if applicable) with a suitable hanger on the back\, gallery wrapped canvas with finished edge\, etc. MVAC and all employees does not assume any liability for lost\, stolen\, or damaged artwork while on display. All artists are strongly recommended to carry liability insurance.
URL:https://magicvalleyartscouncil.org/event/fmg-call-for-entry-magic-moments/
LOCATION:Full Moon Gallery of Fine Art & Contemporary Craft\, 195 River Vista Place\, Twin Falls\, ID\, 83301\, United States
CATEGORIES:Full Moon Gallery,MVAC Artist Opportunities
END:VEVENT
BEGIN:VEVENT
DTSTART;TZID=America/Boise:20250510T100000
DTEND;TZID=America/Boise:20250510T120000
DTSTAMP:20260420T075227
CREATED:20250305T221442Z
LAST-MODIFIED:20250305T221442Z
UID:10000933-1746871200-1746878400@magicvalleyartscouncil.org
SUMMARY:Second Saturday Art Class: Mother's Day Cards
DESCRIPTION:Saturday\, May 10 \n10:00 a.m. – Noon \nMagic Valley Arts Council – 2nd floor classroom \nCost:  $15 to MVAC members\, $25 to Not-Yet Members \nNo experience necessary! Suitable for ages 14 and up.  \nClass size is limited for the best experience\, sign up early to save your spot!  \nRegister online below\, call MVAC at 208-734-ARTS (2787)\, or stop in to sign up. \n  \nSecond Saturday at the Full Moon Gallery presents Mother’s Day Cards with Leslie Lambert \nCelebrate the special women in your life with a heartfelt\, handmade touch! In this class\, you’ll learn how to create beautiful\, personalized Mother’s Day cards using watercolor. Whether you’re a beginner or an experienced painter\, this class will guide you through simple yet stunning techniques to craft meaningful cards filled with florals\, soft washes\, and delicate details. \nSupplies are included. \n  \nRefund Policy: all ticket\, table\, or seat purchases are NON REFUNDABLE from date of purchase.
URL:https://magicvalleyartscouncil.org/event/second-saturday-art-class-mothers-day-cards/
LOCATION:Magic Valley Arts Council\, 195 River Vista Place\, Ste 1\, Twin Falls\, ID\, 83301\, United States
CATEGORIES:Art Classes,Full Moon Gallery
END:VEVENT
BEGIN:VEVENT
DTSTART;TZID=America/Boise:20250510T100000
DTEND;TZID=America/Boise:20250510T120000
DTSTAMP:20260420T075227
CREATED:20250423T201904Z
LAST-MODIFIED:20250423T201904Z
UID:10000941-1746871200-1746878400@magicvalleyartscouncil.org
SUMMARY:2nd Saturday Art Class YOUTH | Artist Trading Cards
DESCRIPTION:Saturday\, May 10 \n10:00 a.m. – Noon (we will stop accepting walk-ins at 11:30am if classes are full) \nMagic Valley Arts Council – Ground Floor \nCost:  FREE for ages 18 and under \nJoin us for an exciting Second Saturday youth workshop! Kids 18 and under can join in on a new art trend by making artist trading cards\, a fun way to connect and create with other artists! \nYoung artists will be provided with a 3” x 4” card that they can then decorate using their own unique style and personality. We will have several craft stations with different types of mediums\, so your only limit is your imagination! \nParents\, bring your little ones out for a morning of creativity—no registration required! Drop-ins are welcome until 11:30 AM. If the workshop is full when you arrive\, we may ask you to explore the gallery upstairs while waiting 10-15 minutes for a spot to open up. Come join the fun and make your own artist card collection! \nAttendance is no charge\, but we request that you RSVP online below or by calling 208-734-ARTS (2787) so we have an idea of how many kids to plan for.
URL:https://magicvalleyartscouncil.org/event/2nd-saturday-art-class-youth-artist-trading-cards/
LOCATION:Magic Valley Arts Council\, 195 River Vista Place\, Ste 1\, Twin Falls\, ID\, 83301\, United States
CATEGORIES:Art Classes,Full Moon Gallery
ORGANIZER;CN="Magic Valley Arts Council":MAILTO:magicvalleyartscouncil@magicvalleyartscouncil.org
END:VEVENT
BEGIN:VEVENT
DTSTART;TZID=America/Boise:20250510T180000
DTEND;TZID=America/Boise:20250510T210000
DTSTAMP:20260420T075227
CREATED:20250418T223034Z
LAST-MODIFIED:20250418T223034Z
UID:10000940-1746900000-1746910800@magicvalleyartscouncil.org
SUMMARY:AUDITIONS: The Hello Girls - Twin Falls Theatre Collective
DESCRIPTION:Audition Dates \n\n\n\nMay 9th from 6-9pm\nMay 10th from 6-9pm\nCallbacks May 11th from 7-9pm\n\nAs long as you check in prior to the end time\, you will be allowed to audition. \nIn-person auditions are located at Twin Falls Theatre Collective. 310 Main St\, Filer\, ID 83328. Additional information and the REQUIRED audition form can be found here: https://twinfallstheatre.com/the-hello-girls-auditions/ \n\n  \nFrom New York to Paris\, from ragtime to jazz\, THE HELLO GIRLS chronicles the story of America’s first women soldiers in this new musical inspired by history. These intrepid heroines served as bilingual telephone operators on the front lines\, helping turn the tide of World War 1. They then returned home to fight a decades-long battle for equality and recognition\, paving the way for future generations. THE HELLO GIRLS was commissioned and premiered by NYC’s Prospect Theater Company to celebrate the centennial of these groundbreaking women.
URL:https://magicvalleyartscouncil.org/event/auditions-the-hello-girls-twin-falls-theatre-collective/2025-05-10/
LOCATION:Twin Falls Theatre Collective\, 310 Main St\, Filer\, ID\, 83328\, United States
CATEGORIES:Community Events,Other Arts Opportunities
END:VEVENT
END:VCALENDAR