BEGIN:VCALENDAR
VERSION:2.0
PRODID:-//Magic Valley Arts Council - ECPv6.15.20//NONSGML v1.0//EN
CALSCALE:GREGORIAN
METHOD:PUBLISH
X-WR-CALNAME:Magic Valley Arts Council
X-ORIGINAL-URL:https://magicvalleyartscouncil.org
X-WR-CALDESC:Events for Magic Valley Arts Council
REFRESH-INTERVAL;VALUE=DURATION:PT1H
X-Robots-Tag:noindex
X-PUBLISHED-TTL:PT1H
BEGIN:VTIMEZONE
TZID:America/Boise
BEGIN:DAYLIGHT
TZOFFSETFROM:-0700
TZOFFSETTO:-0600
TZNAME:MDT
DTSTART:20250309T090000
END:DAYLIGHT
BEGIN:STANDARD
TZOFFSETFROM:-0600
TZOFFSETTO:-0700
TZNAME:MST
DTSTART:20251102T080000
END:STANDARD
BEGIN:DAYLIGHT
TZOFFSETFROM:-0700
TZOFFSETTO:-0600
TZNAME:MDT
DTSTART:20260308T090000
END:DAYLIGHT
BEGIN:STANDARD
TZOFFSETFROM:-0600
TZOFFSETTO:-0700
TZNAME:MST
DTSTART:20261101T080000
END:STANDARD
BEGIN:DAYLIGHT
TZOFFSETFROM:-0700
TZOFFSETTO:-0600
TZNAME:MDT
DTSTART:20270314T090000
END:DAYLIGHT
BEGIN:STANDARD
TZOFFSETFROM:-0600
TZOFFSETTO:-0700
TZNAME:MST
DTSTART:20271107T080000
END:STANDARD
END:VTIMEZONE
BEGIN:VEVENT
DTSTART;TZID=America/Boise:20260410T193000
DTEND;TZID=America/Boise:20260410T210000
DTSTAMP:20260421T023511
CREATED:20250909T203948Z
LAST-MODIFIED:20250909T203948Z
UID:10001050-1775849400-1775854800@magicvalleyartscouncil.org
SUMMARY:Arts on Tour - Medusa
DESCRIPTION:Prepare to be captivated by the rhythmic energy\, emotional depth\, and electrifying sounds of Medusa – a boundary-breaking chamber-folk band. Reimagining the Western string quartet with a global flair\, Medusa cross-pollinates traditional music from around the world with compelling original compositions\, engaging storytelling\, and rare stringed instruments. Composed of accomplished musicians Georgia Hathaway\, Lea Kirstein\, Marta Sołek\, and Saskia Tomkins\, Medusa brings decades of collective experience to a project rooted in creativity and connection. Their dynamic performances weave together obscure folk fiddles\, cultural influences\, and heartfelt narratives\, creating a must-see live show that is as powerful as it is unforgettable.\n\n  \nAdults: $28\, Senior: $26\, Students: $20 \nTicket purchase options: \nOrder online: Buy tickets now \nOrder by phone: Call (208) 732-6288 \nPurchase in Person:\nCSI Fine Arts Center Box Office\n315 Falls Avenue in Twin Falls\nMonday-Friday\, 9am-5pm\n6:30pm-7:30pm on performance nights \n 
URL:https://magicvalleyartscouncil.org/event/arts-on-tour-medusa/
LOCATION:CSI Fine Arts Auditorium\, 315 Falls Ave\, Twin Falls\, ID\, 83301\, United States
CATEGORIES:Arts on Tour,Community Events
ATTACH;FMTTYPE=image/jpeg:https://magicvalleyartscouncil.org/wp-content/uploads/2025/09/aot-medusa.jpg
END:VEVENT
END:VCALENDAR