BEGIN:VCALENDAR
VERSION:2.0
PRODID:-//Magic Valley Arts Council - ECPv6.15.20//NONSGML v1.0//EN
CALSCALE:GREGORIAN
METHOD:PUBLISH
X-ORIGINAL-URL:https://magicvalleyartscouncil.org
X-WR-CALDESC:Events for Magic Valley Arts Council
REFRESH-INTERVAL;VALUE=DURATION:PT1H
X-Robots-Tag:noindex
X-PUBLISHED-TTL:PT1H
BEGIN:VTIMEZONE
TZID:America/Boise
BEGIN:DAYLIGHT
TZOFFSETFROM:-0700
TZOFFSETTO:-0600
TZNAME:MDT
DTSTART:20250309T090000
END:DAYLIGHT
BEGIN:STANDARD
TZOFFSETFROM:-0600
TZOFFSETTO:-0700
TZNAME:MST
DTSTART:20251102T080000
END:STANDARD
BEGIN:DAYLIGHT
TZOFFSETFROM:-0700
TZOFFSETTO:-0600
TZNAME:MDT
DTSTART:20260308T090000
END:DAYLIGHT
BEGIN:STANDARD
TZOFFSETFROM:-0600
TZOFFSETTO:-0700
TZNAME:MST
DTSTART:20261101T080000
END:STANDARD
BEGIN:DAYLIGHT
TZOFFSETFROM:-0700
TZOFFSETTO:-0600
TZNAME:MDT
DTSTART:20270314T090000
END:DAYLIGHT
BEGIN:STANDARD
TZOFFSETFROM:-0600
TZOFFSETTO:-0700
TZNAME:MST
DTSTART:20271107T080000
END:STANDARD
END:VTIMEZONE
BEGIN:VEVENT
DTSTART;TZID=America/Boise:20260413T190000
DTEND;TZID=America/Boise:20260414T200000
DTSTAMP:20260421T025813
CREATED:20260407T184340Z
LAST-MODIFIED:20260407T184500Z
UID:10001176-1776106800-1776196800@magicvalleyartscouncil.org
SUMMARY:Fellowship Concert Series: The Many Lives of Carl Sandburg
DESCRIPTION:What: Two Williams Production of “The Many Lives of Carl Sandburg”\nWhen: Second Mondays of the Month – April 13th 7– 8pm Doors open at 6:30pm.\nWhere: Unitarian Universalist Fellowship 160 9th Ave E\, Twin Falls\, Idaho 83301\nCost: $15 suggested donation \n  \n\nTHE FELLOWSHIP CONCERT SERIES PRESENTS: a John Quinley play “The Many Lives of Carl Sandburg”\, performed by Two Williams Production. \nThis John Quinley play\, directed by Tony Mannen\, portrays the countless careers of Sandburg including: wanderer\, journalist\, poet\, children’s author\, Lincoln biographer\, and musician
URL:https://magicvalleyartscouncil.org/event/fellowship-concert-series-the-many-lives-of-carl-sanburg/
LOCATION:Unitarian Universalist Fellowship\, 160 9th Ave\, Twin Falls\, ID\, 83301\, United States
CATEGORIES:Community Events
ATTACH;FMTTYPE=image/jpeg:https://magicvalleyartscouncil.org/wp-content/uploads/2026/04/fellowship-concert-april.jpg
END:VEVENT
BEGIN:VEVENT
DTSTART;TZID=America/Boise:20260414T100000
DTEND;TZID=America/Boise:20260414T130000
DTSTAMP:20260421T025813
CREATED:20260407T185342Z
LAST-MODIFIED:20260407T185342Z
UID:10001177-1776160800-1776171600@magicvalleyartscouncil.org
SUMMARY:2nd Tuesday Watercolor Class - IWS
DESCRIPTION:What:  2nd Tuesday painting session \nWhen:  Tuesday\, April 14 \nWhere:  Twin Falls Center for the Arts \nWhat time:  10:00 a.m. until 1:00 or so \nWhat to bring: Painting supplies and a painting friend \nWho can come:  We welcome all painters to join us.  Paint in whatever medium you like to use\, and bring what you are working on. \nDirections:  Twin Falls Center for the Arts – MVAC classroom on the second floor. \n  \n\nWhat will we do:  \n\n\n\nSigns of Spring:  Spring Flowers\n\nBring along your paint supplies and what you are working on.  \nYou are invited to spend the morning working on whatever painting you have in progress\, or something new\, if you want.  (Tulips?)\n \nNeed some inspiration?\nHow about making a personal “self-care” list for spring? It is such a busy time. Take time for yourself. This is a perfect option for a sketchbook or a card! Doing the artwork is self-care in itself. \n\n\n \n\nCritique? \nI hope that you will share what you are working on\, and give us a peek at what you are happy with\, and also what you need help with.\nSometimes having someone else take a look helps the artist to see what might be an answer to the questions:\n\n\nIs it finished\nWhat is missing\nWhat should I do next or differently?\nWhy does it feel like this just isn’t working\nHave I overworked it?\nAre the values a problem – need more darks?\nAgain\, am I done? \n\n\n\n\n \nWHO CAN COME:  We welcome all painters to join us.\nPaint in whatever medium you like to use\, and help our group grow by inviting a painting friend.\n\n\n\n\n\n\n\nART Tips:\n\nSketchbook Revival. https://www.karenabend.com/. Starts:  April 11-21.\nFree Art Lessons! Three options each day.  Many art topics.  Easy sign up\n \nWinslow Art Center. https://winslowartcenter.com. April 9-12.  Free Art Lessons!   \nOnline lessons from excellent artists.  Sign up on the site for links to lessons.\n \nIn person Class at MVAC:  If you are interested in learning more about using a dip pen and ink\, I am teaching a class on April 11 at MVAC.  \nSign up online at https://magicvalleyartscouncil.org/event/second-saturday-art-class-exploring-ink/\n\n\n\n\n\nAND…LASTLY…\n\nMichelle George has kindly offered to stand in for me (Connie) again for this April session.  \nI am still in my printmaking class and it is hard to miss!  So much to learn and do! 
URL:https://magicvalleyartscouncil.org/event/2nd-tuesday-watercolor-class-iws-13/
LOCATION:Magic Valley Arts Council\, 195 River Vista Place\, Ste 1\, Twin Falls\, ID\, 83301\, United States
CATEGORIES:Art Classes,Community Events
ATTACH;FMTTYPE=image/png:https://magicvalleyartscouncil.org/wp-content/uploads/2026/03/daffodil.png
END:VEVENT
END:VCALENDAR