BEGIN:VCALENDAR
VERSION:2.0
PRODID:-//Magic Valley Arts Council - ECPv6.15.20//NONSGML v1.0//EN
CALSCALE:GREGORIAN
METHOD:PUBLISH
X-WR-CALNAME:Magic Valley Arts Council
X-ORIGINAL-URL:https://magicvalleyartscouncil.org
X-WR-CALDESC:Events for Magic Valley Arts Council
REFRESH-INTERVAL;VALUE=DURATION:PT1H
X-Robots-Tag:noindex
X-PUBLISHED-TTL:PT1H
BEGIN:VTIMEZONE
TZID:America/Boise
BEGIN:DAYLIGHT
TZOFFSETFROM:-0700
TZOFFSETTO:-0600
TZNAME:MDT
DTSTART:20250309T090000
END:DAYLIGHT
BEGIN:STANDARD
TZOFFSETFROM:-0600
TZOFFSETTO:-0700
TZNAME:MST
DTSTART:20251102T080000
END:STANDARD
BEGIN:DAYLIGHT
TZOFFSETFROM:-0700
TZOFFSETTO:-0600
TZNAME:MDT
DTSTART:20260308T090000
END:DAYLIGHT
BEGIN:STANDARD
TZOFFSETFROM:-0600
TZOFFSETTO:-0700
TZNAME:MST
DTSTART:20261101T080000
END:STANDARD
BEGIN:DAYLIGHT
TZOFFSETFROM:-0700
TZOFFSETTO:-0600
TZNAME:MDT
DTSTART:20270314T090000
END:DAYLIGHT
BEGIN:STANDARD
TZOFFSETFROM:-0600
TZOFFSETTO:-0700
TZNAME:MST
DTSTART:20271107T080000
END:STANDARD
END:VTIMEZONE
BEGIN:VEVENT
DTSTART;TZID=America/Boise:20260416T193000
DTEND;TZID=America/Boise:20260416T213000
DTSTAMP:20260421T023510
CREATED:20250909T205651Z
LAST-MODIFIED:20250909T205804Z
UID:10001055-1776367800-1776375000@magicvalleyartscouncil.org
SUMMARY:Magic Valley Symphony - POPS Concert
DESCRIPTION:What: Magic Valley Symphony POPS Concert – “Our Favorite Things” \nWhere: CSI Fine Arts Building\, 315 Falls Ave \nWhen: Thursday\, April 16 | 7:30pm- 9:30pm \nCost: $12/Adults\, $10/Seniors\, $6/Students. Tickets available online here: https://www.mvsymphony.org/ \n\n\nAbout the Event\n\n\n\nOur Pops Concert features piano soloist Kevin Ahfat and a commissioned composition from Sam Paytosh.  \nProgram to be selected from… \nRodgers & Hammerstein\, Selections from The Sound of Music  \nLerner & Lowe\, Selections from My Fair Lady \nM. Kamen\, Selections from Robin Hood\, Prince of Thieves \nStrauss\, Radetsky March \nVideo Games Music\, Halo Theme + \nPasek & Paul\, Planetarium from LaLa Land \nGershwin\, Girl Crazy Overture \nGershwin\, Rhapsody in Blue\, Kevin Ahfat\, pianist\,  \nSam Paytosh\, commissioned composition \n\n\n\n\n\n\n\n\n\n\n\n\n\nTickets should be purchased online if possible.  Seats are not guaranteed if you wait to purchase a ticket at the door. You may also call our Director of Development\, Amy Toft\, to reserve a ticket by calling 208-404-9670.
URL:https://magicvalleyartscouncil.org/event/magic-valley-symphony-classical-favorites/
LOCATION:CSI Fine Arts Center\, 315 Falls Ave\, Twin Falls\, ID\, 83301\, United States
CATEGORIES:Community Events
ATTACH;FMTTYPE=image/avif:https://magicvalleyartscouncil.org/wp-content/uploads/2025/09/mv-symphony.avif
END:VEVENT
END:VCALENDAR