BEGIN:VCALENDAR
VERSION:2.0
PRODID:-//Magic Valley Arts Council - ECPv6.15.20//NONSGML v1.0//EN
CALSCALE:GREGORIAN
METHOD:PUBLISH
X-ORIGINAL-URL:https://magicvalleyartscouncil.org
X-WR-CALDESC:Events for Magic Valley Arts Council
REFRESH-INTERVAL;VALUE=DURATION:PT1H
X-Robots-Tag:noindex
X-PUBLISHED-TTL:PT1H
BEGIN:VTIMEZONE
TZID:America/Boise
BEGIN:DAYLIGHT
TZOFFSETFROM:-0700
TZOFFSETTO:-0600
TZNAME:MDT
DTSTART:20250309T090000
END:DAYLIGHT
BEGIN:STANDARD
TZOFFSETFROM:-0600
TZOFFSETTO:-0700
TZNAME:MST
DTSTART:20251102T080000
END:STANDARD
BEGIN:DAYLIGHT
TZOFFSETFROM:-0700
TZOFFSETTO:-0600
TZNAME:MDT
DTSTART:20260308T090000
END:DAYLIGHT
BEGIN:STANDARD
TZOFFSETFROM:-0600
TZOFFSETTO:-0700
TZNAME:MST
DTSTART:20261101T080000
END:STANDARD
BEGIN:DAYLIGHT
TZOFFSETFROM:-0700
TZOFFSETTO:-0600
TZNAME:MDT
DTSTART:20270314T090000
END:DAYLIGHT
BEGIN:STANDARD
TZOFFSETFROM:-0600
TZOFFSETTO:-0700
TZNAME:MST
DTSTART:20271107T080000
END:STANDARD
END:VTIMEZONE
BEGIN:VEVENT
DTSTART;VALUE=DATE:20260423
DTEND;VALUE=DATE:20260504
DTSTAMP:20260421T025813
CREATED:20260217T223625Z
LAST-MODIFIED:20260217T223625Z
UID:10001148-1776902400-1777852799@magicvalleyartscouncil.org
SUMMARY:12 Angry Men - Twin Falls Theatre Collective
DESCRIPTION:Join the cast of Twin Falls Theatre Collective in their production of 12 Angry Men this spring! \nWhen: April 23\, 24\, 25\, 27\, 30\, May 1 | 7pm \nAND April 25\, 26\, May 3 | 2pm \nWhere: Twin Falls Theatre Collective (310 Main St\, Filer\, ID 83328) \nCost: $20/ea\, purchase tickets online HERE: https://twinfallstheatre.com/tickets/ \n\n  \nA 19-year-old man has just stood trial for the fatal stabbing of his father. “He doesn’t stand a chance\,” mutters the guard as the 12 jurors are taken into the bleak jury room. It looks like an open-and-shut case—until one of the jurors begins opening the others’ eyes to the facts. “This is a remarkable thing about democracy\,” says the foreign-born juror\, “that we are notified by mail to come down to this place—and decide on the guilt or innocence of a person; of a man or woman we have not known before. We have nothing to gain or lose by our verdict. We should not make it a personal thing.” But personal it is\, with each juror revealing his or her own character as the various testimonies are re-examined\, the murder is re-enacted and a new murder threat is born before their eyes! Tempers get short\, arguments grow heated\, and the jurors become 12 angry men. \nBy Reginald Rose\nAdapted by Sherman L. Sergel. Based on the Emmy award-winning television movie by Reginald Rose.\nProduced by special arrangement with THE DRAMATIC PUBLISHING COMPANY of Woodstock\, Illinois
URL:https://magicvalleyartscouncil.org/event/12-angry-men-twin-falls-theatre-collective/
LOCATION:Twin Falls Theatre Collective\, 310 Main St\, Filer\, ID\, 83328\, United States
CATEGORIES:Community Events
ATTACH;FMTTYPE=image/jpeg:https://magicvalleyartscouncil.org/wp-content/uploads/2026/02/12-Angry-Men-Show-Poster-663x1024-1.jpg
END:VEVENT
BEGIN:VEVENT
DTSTART;TZID=America/Boise:20260424T100000
DTEND;TZID=America/Boise:20260424T130000
DTSTAMP:20260421T025813
CREATED:20260304T000902Z
LAST-MODIFIED:20260304T000902Z
UID:10001158-1777024800-1777035600@magicvalleyartscouncil.org
SUMMARY:Hagerman Fossil Beds "Year of the Horse" Lecture Series
DESCRIPTION:What: Hagerman Fossil Beds National Monument Lecture Series\nWhen: Feb 27\, Mar 20\, Apr 24\, May 15\, Jun 26\, Jul 17\, Aug 21\, Sep 18 | 10am & 1pm\nWhere: Thousand Springs Visitor Center\, Hagerman\, ID\nCost: Free to attend! RESERVATIONS ARE REQUIRED – email HAFO_Information@nps.gov to RSVP.\n\nHagerman Fossil Beds National Monument invites members of the public to learn more about the history of horses and Chinese communities in Idaho by participating in special programs that the Hagerman Fossil Beds National Monument will host and by visiting the park in 2026\, which is the “Year of the Fire Horse” in the zodiac calendar used in many Asian cultures!\n\n\nThe Hagerman Fossil Beds National Monument\, located between Boise and Twin Falls\, preserves hundreds of species of three- to four-million-year-old plant and animal fossils\, including the world’s largest assemblage of “Hagerman Horse” (Equus simplicidens) fossils. While the Hagerman Horse is native to North America\, the genus Equus spread to Asia\, and fossils similar to the Hagerman Horse have been found in China. Historic remnants of Chinese communities centered around gold mining and railroad industry work in the 1800s are still present in the area near the park.\n\n\nThe Hagerman Fossil Beds National Monument will host one special in-person or virtual Year of the Fire Horse program each month\, from February through September. A program schedule and additional details are available on the park website and below. Members of the public are also encouraged to visit the park\, which is still an active site where paleontologists continue to conduct research and discover new fossils. Visitor information is available on the Hagerman Fossil Beds National Monument website at https://www.nps.gov/hafo/index.htm\n\n\nEvent Schedule\nFeb 27: What Your Mother Never Told You About the Chinese Lunar New Year- by David Lei\nMarch 20: From the Pearl River Delta to the Snake River Canyon: Southern Idaho’s Chinese Cultural Legacy – by Ron James\nApril 24: Horse Tail – by Jay Hauser\nMay 15: What Have We Learned About Chinese Railroad Workers? – by Dr. Chris Merritt\nJune 26: Horses and People in the Northern Rockies – by Dr. Will Taylor\nJuly 17: The Light of a Hundred Fires: Chinese Gold Mining Networks in Idaho’s Boise Basin\, 1860-1915 – by Renae Campbell\nAugust 21: An Archaeological Record of Chinese Mining in the Snake River Canyon\, Idaho – by Dr Ken Cannon\nSeptember 18: From the Pearl River Delta to the Snake River Canyon: Southern Idaho’s Chinese Cultural Legacy – by Ron James
URL:https://magicvalleyartscouncil.org/event/hagerman-fossil-beds-year-of-the-horse-lecture-series/2026-04-24/
LOCATION:Thousand Springs Visitor Center\, 17970 US Hwy 30\, Hagerman\, ID\, 83332\, United States
CATEGORIES:Community Events
ATTACH;FMTTYPE=image/jpeg:https://magicvalleyartscouncil.org/wp-content/uploads/2026/03/year-of-the-horse.jpg
END:VEVENT
BEGIN:VEVENT
DTSTART;TZID=America/Boise:20260424T193000
DTEND;TZID=America/Boise:20260424T210000
DTSTAMP:20260421T025813
CREATED:20260403T195839Z
LAST-MODIFIED:20260403T200008Z
UID:10001173-1777059000-1777064400@magicvalleyartscouncil.org
SUMMARY:Magic Valley Chorale Spring Concert
DESCRIPTION:Where: CSI Fine Arts Auditorium\, 315 Falls Ave\, Twin Falls \nWhen: Friday\, April 24 at 7:30pm & Saturday\, April 25 at 3pm \nThe Magic Valley Chorale will present its spring concert on Friday\, April 24th at 7:30 p.m. and Saturday\, April 25th at 3:00 p.m. at the College of Southern Idaho Fine Arts Auditorium. The theme of the concert is “A Celebration of American Voices” that features well-known music written by American composers. Tickets are available at Magicvalleychorale.com\, Kurt’s Pharmacy and at the door.
URL:https://magicvalleyartscouncil.org/event/magic-valley-chorale-spring-concert-2/2026-04-24/
LOCATION:CSI Fine Arts Auditorium\, 315 Falls Ave\, Twin Falls\, ID\, 83301\, United States
CATEGORIES:Community Events
ATTACH;FMTTYPE=image/jpeg:https://magicvalleyartscouncil.org/wp-content/uploads/2025/04/david-beale-rU4kvQKjG2o-unsplash-min-scaled.jpg
END:VEVENT
BEGIN:VEVENT
DTSTART;TZID=America/Boise:20260424T193000
DTEND;TZID=America/Boise:20260424T220000
DTSTAMP:20260421T025813
CREATED:20251218T214010Z
LAST-MODIFIED:20260109T184500Z
UID:10001123-1777059000-1777068000@magicvalleyartscouncil.org
SUMMARY:Brett Reid with Rob Harding: Taylor\, Croce\, & Lightfoot
DESCRIPTION:When: Friday\, April 24 | 7:30pm (doors open at 7:15pm) \nWhere: Magic Valley Arts Council Sligar Auditorium | 195 River Vista Place\, First Floor\, Twin Falls\, ID 83301 \nCost: $16/MVAC Member\, $21/Not-Yet-Members\, $150/Bistro Table. Tickets available online below\, or by calling our office at 208-734-ARTS (2787) \nBrett Reid and Rob Harding return to the Magic Valley Arts Council stage with an all-new\, unique show paying tribute to three legendary artists: James Taylor\, Jim Croce\, and Gordon Lightfoot. Enjoy unforgettable renditions of classics such as Fire and Rain\, Sweet Baby James\, Bad\, Bad Leroy Brown\, Sundown\, If You Could Read My Mind\, and many more. \nBrett and Rob are a dynamic entertainment duo\, notorious for their outstanding vocals\, awesome guitar playing\, and the telling of the “story behind the song”. Their sold-out performances here in Idaho are a testament to their quality entertainment. Get your tickets while they last\, and join Brett and Rob for a tremendous evening as they pay tribute to these legends of folk rock! A one night only event here at the beautiful Sligar Auditorium. \nRefund Policy: all ticket\, table\, or seat purchases are NON REFUNDABLE from date of purchase.
URL:https://magicvalleyartscouncil.org/event/brett-reid-with-rob-harding-taylor-croce-lightfoot/
LOCATION:Sligar Auditorium\, 195 River Vista Pl\,\, Twin Falls\, ID\, 83301\, United States
CATEGORIES:Community Events
ATTACH;FMTTYPE=image/jpeg:https://magicvalleyartscouncil.org/wp-content/uploads/2025/12/taylor-croce-lightfoot-Brett-ReidRob-Harding-1.jpg
END:VEVENT
END:VCALENDAR