BEGIN:VCALENDAR
VERSION:2.0
PRODID:-//Magic Valley Arts Council - ECPv6.15.20//NONSGML v1.0//EN
CALSCALE:GREGORIAN
METHOD:PUBLISH
X-ORIGINAL-URL:https://magicvalleyartscouncil.org
X-WR-CALDESC:Events for Magic Valley Arts Council
REFRESH-INTERVAL;VALUE=DURATION:PT1H
X-Robots-Tag:noindex
X-PUBLISHED-TTL:PT1H
BEGIN:VTIMEZONE
TZID:America/Boise
BEGIN:DAYLIGHT
TZOFFSETFROM:-0700
TZOFFSETTO:-0600
TZNAME:MDT
DTSTART:20240310T090000
END:DAYLIGHT
BEGIN:STANDARD
TZOFFSETFROM:-0600
TZOFFSETTO:-0700
TZNAME:MST
DTSTART:20241103T080000
END:STANDARD
BEGIN:DAYLIGHT
TZOFFSETFROM:-0700
TZOFFSETTO:-0600
TZNAME:MDT
DTSTART:20250309T090000
END:DAYLIGHT
BEGIN:STANDARD
TZOFFSETFROM:-0600
TZOFFSETTO:-0700
TZNAME:MST
DTSTART:20251102T080000
END:STANDARD
BEGIN:DAYLIGHT
TZOFFSETFROM:-0700
TZOFFSETTO:-0600
TZNAME:MDT
DTSTART:20260308T090000
END:DAYLIGHT
BEGIN:STANDARD
TZOFFSETFROM:-0600
TZOFFSETTO:-0700
TZNAME:MST
DTSTART:20261101T080000
END:STANDARD
BEGIN:DAYLIGHT
TZOFFSETFROM:-0700
TZOFFSETTO:-0600
TZNAME:MDT
DTSTART:20270314T090000
END:DAYLIGHT
BEGIN:STANDARD
TZOFFSETFROM:-0600
TZOFFSETTO:-0700
TZNAME:MST
DTSTART:20271107T080000
END:STANDARD
END:VTIMEZONE
BEGIN:VEVENT
DTSTART;VALUE=DATE:20260220
DTEND;VALUE=DATE:20260222
DTSTAMP:20260421T031832
CREATED:20260218T221930Z
LAST-MODIFIED:20260218T221930Z
UID:10001150-1771545600-1771718399@magicvalleyartscouncil.org
SUMMARY:Twin Falls High School Bruin High Players presents: Mamma Mia!
DESCRIPTION:What: Mamma Mia! live \nWhen: Friday\, February 20 & Saturday\, February 21 | 7pm (sing along matinee at 1pm on 2/21) \nWhere: Roper Auditorium\, 1615 Filer Ave E\, Twin Falls\, ID 83301 \nCost: Tickets are $15/adults\, $8/seniors\, $5/K-12 students. Families can enjoy the show for $40 (covering two adults and four minor children). Tickets are purchased at the door. \nGet ready to dance! Twin Falls High School’s Bruin High Players presents Mamma Mia at Roper Auditorium on February 20\, and 21 at 7 PM\, featuring special sing-along matinees at 1 PM on both Saturdays. This energetic production showcases two incredible casts and the talent of five student choreographers. The entire ensemble is bringing this dance-heavy show to life with spectacular flair.
URL:https://magicvalleyartscouncil.org/event/twin-falls-high-school-bruin-high-players-presents-mamma-mia/
LOCATION:Roper Auditorium\, 1615 Filer Ave E\, Twin Falls\, ID\, 83301\, United States
CATEGORIES:Community Events
END:VEVENT
BEGIN:VEVENT
DTSTART;TZID=America/Boise:20251111T190000
DTEND;TZID=America/Boise:20251111T210000
DTSTAMP:20260421T031832
CREATED:20251029T175627Z
LAST-MODIFIED:20251029T175627Z
UID:10001082-1762887600-1762894800@magicvalleyartscouncil.org
SUMMARY:TFHS Music Department Veterans Day Performance
DESCRIPTION:What: Veterans Day musical performance \nWhen: Tuesday\, November 11 | 7pm \nWhere: Roper Auditorium\, | 1615 Filer Ave E\, Twin Falls\, ID 83301 \nCost: Free! \n  \nThe Twin Falls High School Music Department invites you to the Veterans Day Concert on Tuesday\, November 11\, 2025\, at 7 p.m. in Roper Auditorium. \nEnjoy a powerful combined performance by the TFHS Choir\, Band\, and Orchestra as they pay tribute to those who have served our country. \nFree and open to the public — all are welcome! \n 
URL:https://magicvalleyartscouncil.org/event/tfhs-music-department-veterans-day-performance/
LOCATION:Roper Auditorium\, 1615 Filer Ave E\, Twin Falls\, ID\, 83301\, United States
CATEGORIES:Community Events
END:VEVENT
BEGIN:VEVENT
DTSTART;TZID=America/Boise:20250926T190000
DTEND;TZID=America/Boise:20250930T210000
DTSTAMP:20260421T031832
CREATED:20250923T221348Z
LAST-MODIFIED:20250923T221348Z
UID:10001066-1758913200-1759266000@magicvalleyartscouncil.org
SUMMARY:Bruin Players Presents: Puffs: Or Seven Increasingly Eventful Years at a Certain School of Magic
DESCRIPTION:What: performance of ‘Puffs: Or Seven Incresingly Eventful Years at a Certain School of Magic’ by the Bruin High Players \nWhen: September 26\, 27\, 29\, &30 | 7pm (doors open at 6:30pm) \nWhere: Roper Auditorium\, 1615 Filer Ave E\, Twin Falls\, ID 83301 \nCost: $10 / Adults\, $5 / K-12 students\, $35 / Family of 6 . Tickets are available online here: https://www.successfund.com/5ggm9 \n  \nThe Bruin High Players will be performing Puffs: Or Seven Increasingly Eventful Years at a Certain School of Magic and Magic on September 26\,27\,29\, and 30. As always\, the doors to Roper will open at 6:30 PM and the show starts at 7 PM. Tickets are $10 for adults\, $5 for K-12 students\, and $35 for a family of 6. \nPuffs is a spoof of a story that takes place in a certain magical world where a certain boy wearing glasses with a special scar on his forehead is the star….but what happened to all the side characters while he was saving the world? Puffs answers that question and allows us to look at those seven years through the eyes of the “Puffs”… Does fate love or hate the side characters? This show is a hilarious family friendly comedy. If you love a certain wizarding world\, you will LOVE Puffs!
URL:https://magicvalleyartscouncil.org/event/bruin-players-presents-puffs-or-seven-increasingly-eventful-years-at-a-certain-school-of-magic/
LOCATION:Roper Auditorium\, 1615 Filer Ave E\, Twin Falls\, ID\, 83301\, United States
CATEGORIES:Community Events
END:VEVENT
END:VCALENDAR