BEGIN:VCALENDAR
VERSION:2.0
PRODID:-//Magic Valley Arts Council - ECPv6.15.20//NONSGML v1.0//EN
CALSCALE:GREGORIAN
METHOD:PUBLISH
X-ORIGINAL-URL:https://magicvalleyartscouncil.org
X-WR-CALDESC:Events for Magic Valley Arts Council
REFRESH-INTERVAL;VALUE=DURATION:PT1H
X-Robots-Tag:noindex
X-PUBLISHED-TTL:PT1H
BEGIN:VTIMEZONE
TZID:America/Boise
BEGIN:DAYLIGHT
TZOFFSETFROM:-0700
TZOFFSETTO:-0600
TZNAME:MDT
DTSTART:20240310T090000
END:DAYLIGHT
BEGIN:STANDARD
TZOFFSETFROM:-0600
TZOFFSETTO:-0700
TZNAME:MST
DTSTART:20241103T080000
END:STANDARD
BEGIN:DAYLIGHT
TZOFFSETFROM:-0700
TZOFFSETTO:-0600
TZNAME:MDT
DTSTART:20250309T090000
END:DAYLIGHT
BEGIN:STANDARD
TZOFFSETFROM:-0600
TZOFFSETTO:-0700
TZNAME:MST
DTSTART:20251102T080000
END:STANDARD
BEGIN:DAYLIGHT
TZOFFSETFROM:-0700
TZOFFSETTO:-0600
TZNAME:MDT
DTSTART:20260308T090000
END:DAYLIGHT
BEGIN:STANDARD
TZOFFSETFROM:-0600
TZOFFSETTO:-0700
TZNAME:MST
DTSTART:20261101T080000
END:STANDARD
BEGIN:DAYLIGHT
TZOFFSETFROM:-0700
TZOFFSETTO:-0600
TZNAME:MDT
DTSTART:20270314T090000
END:DAYLIGHT
BEGIN:STANDARD
TZOFFSETFROM:-0600
TZOFFSETTO:-0700
TZNAME:MST
DTSTART:20271107T080000
END:STANDARD
END:VTIMEZONE
BEGIN:VEVENT
DTSTART;VALUE=DATE:20260109
DTEND;VALUE=DATE:20260112
DTSTAMP:20260421T030447
CREATED:20251210T222324Z
LAST-MODIFIED:20251210T222324Z
UID:10001105-1767916800-1768175999@magicvalleyartscouncil.org
SUMMARY:AUDITIONS - 12 Angry Men
DESCRIPTION:The Twin Falls Theatre Collective is pleased to announce open auditions for their spring show\, 12 Angry Men. Auditions are January 9 – 11\, interested participants should complete the audition form found here: https://twinfallstheatre.com/12-angry-men-audition-form/ \n\n\n\n\n\n\n\n\n\n\n\n\nAudition Dates\n\n\n\n\n\n\n\n\n\n\n\n\n\nJanuary 9\, 2026 from 6-8pm\nJanuary 10\, 2026 from 2-4pm\nCallbacks January 11th\, 2026 from 2-4pm\n\n\n\nAs long as you check in prior to the end time\, you will be allowed to audition. \nIn-person auditions are located at Twin Falls Theatre Collective. 310 Main St\, Filer\, ID 83328. \n  \n\n\n\n\n\n\n\n\n\n\n\n\n\n\n\n\n\n\nRehearsals start March 16\, 2026 and will run Mon-Thurs from 7-10pm or Mon-Thurs from 6-9pm depending on cast preference.  \nThere are 3 important rehearsal dates prior to official rehearsals beginning. The director is requesting you be as memorized as possible before official rehearsals begin. \n\nREAD THROUGH AND OPENING PRACTICE January 17th 11am – 3pm (Lunch Provided)\nFebruary 2nd – READ THROUGH 2 – Memorization Check In (Time TBD)\nFebruary 29th – READ THROUGH 3 – SHOULD BE AS MEMORIZED AS POSSIBLE. (Time TBD)\n\n\n\n\n\n\n\n\n\n\n\n\n  \n\nPerformance Dates 2026\nApril 23\, 24\, 25\, 27\, 30 and May 1\, 2nd at 7:00 pm\nApril 25\, 26 and May 3rd at 2:00 pm \n  \n\n\nAudition Requirements\n\nCast Size: 13 Male\n\n\nReading: \n\nPrepare and memorize up to a 3-minute monologue for the audition.\n\nCallbacks: \n\nCallbacks will be held at 2pm on Sunday\, January 11th. All actors being considered for roles will be called back at same time to read different parts in different scenes of the show as a collective.\n\n\nVideo Auditions: \n\nIf submitting a video audition\, please have your video ready before submitting your audition application as you’ll need to submit your video link.\n\n  \n\n\nCharacter Breakdown\n\nThe play will be presented in the 1950’s time period.\n\n\nForeman (Juror 1) — Takes his job as foreman very seriously and tries to maintain order. He is not overly bright but is persistent and wants to be fair.\nJuror 2 — A meek and hesitant man who is easily swayed by others and has difficulty forming his own opinions.\nJuror 3 — A forceful and aggressive businessman whose personal relationship with his son colors his judgment\, making him stubborn and intolerant of other views. He is the last to change his vote.\nJuror 4 — A wealthy\, logical stockbroker who is initially swayed only by facts and evidence. He is impassive and seems above the others’ emotional outbursts.\nJuror 5 — A naive young man from a slum who is offended by the prejudices of some of the other jurors. He takes his role seriously but struggles to speak up initially.\nJuror 6 — An honest\, though simple\, house painter who is slow to reach conclusions. He becomes protective of Juror 9.\nJuror 7 — A superficial salesman and baseball fan who is impatient and only wants the trial to be over so he can attend a game.\nJuror 8 — An architect and the play’s protagonist. He is patient\, compassionate\, and is the only juror to initially vote “not guilty\,” which forces the others to re-examine the case.\nJuror 9 — The first to change his vote to “not guilty\,” inspired by Juror 8’s courage. He is a kind\, older man who recognizes the defendant’s need to be heard.\nJuror 10 — A bitter\, bigoted\, and loud character who is deeply prejudiced against the defendant because of his background. His racism eventually alienates him from the other jurors.\nJuror 11 — An immigrant watchmaker who is initially reserved but passionate about justice. He defends the democratic process and is disgusted by the other jurors’ apathy and prejudice.\nJuror 12 — An advertising man who is initially indecisive but more concerned with superficialities than with finding the truth.\n\n\nPLEASE FILL OUT THE AUDITION FORM HERE PRIOR TO YOUR AUDITION
URL:https://magicvalleyartscouncil.org/event/auditions-12-angry-men/
LOCATION:Twin Falls Theatre Collective\, 310 Main St\, Filer\, ID\, 83328\, United States
CATEGORIES:Community Events,Other Arts Opportunities
END:VEVENT
BEGIN:VEVENT
DTSTART;VALUE=DATE:20251030
DTEND;VALUE=DATE:20251117
DTSTAMP:20260421T030447
CREATED:20250820T214616Z
LAST-MODIFIED:20250820T214641Z
UID:10001034-1761782400-1763337599@magicvalleyartscouncil.org
SUMMARY:The Hello Girls - Twin Falls Theatre Collective
DESCRIPTION:Join the cast of Twin Falls Theatre Collective in their production of THE HELLO GIRLS this fall! \nWhen: October 30; November 1\, 3\, 6\, 7\, 8\, 10\, 14\, & 15 | 7pm \nAND November 2\, 8\, 9\, & 16 | 2pm \nThere will also be a special FREE performance for Veterans on November 11. \nWhere: Twin Falls Theatre Collective (310 Main St\, Filer\, ID 83328) \nCost: $20/ea\, purchase tickets online HERE: https://twinfallstheatre.com/tickets/ \n\n  \nFrom New York to Paris\, from ragtime to jazz\, THE HELLO GIRLS chronicles the story of America’s first women soldiers in this new musical inspired by history. These intrepid heroines served as bilingual telephone operators on the front lines\, helping turn the tide of World War 1. They then returned home to fight a decades-long battle for equality and recognition\, paving the way for future generations. THE HELLO GIRLS was commissioned and premiered by NYC’s Prospect Theater Company to celebrate the centennial of these groundbreaking women.
URL:https://magicvalleyartscouncil.org/event/the-hello-girls-twin-falls-theatre-collective/
LOCATION:Twin Falls Theatre Collective\, 310 Main St\, Filer\, ID\, 83328\, United States
CATEGORIES:Community Events
END:VEVENT
BEGIN:VEVENT
DTSTART;TZID=America/Boise:20250510T180000
DTEND;TZID=America/Boise:20250510T210000
DTSTAMP:20260421T030447
CREATED:20250418T223034Z
LAST-MODIFIED:20250418T223034Z
UID:10000940-1746900000-1746910800@magicvalleyartscouncil.org
SUMMARY:AUDITIONS: The Hello Girls - Twin Falls Theatre Collective
DESCRIPTION:Audition Dates \n\n\n\nMay 9th from 6-9pm\nMay 10th from 6-9pm\nCallbacks May 11th from 7-9pm\n\nAs long as you check in prior to the end time\, you will be allowed to audition. \nIn-person auditions are located at Twin Falls Theatre Collective. 310 Main St\, Filer\, ID 83328. Additional information and the REQUIRED audition form can be found here: https://twinfallstheatre.com/the-hello-girls-auditions/ \n\n  \nFrom New York to Paris\, from ragtime to jazz\, THE HELLO GIRLS chronicles the story of America’s first women soldiers in this new musical inspired by history. These intrepid heroines served as bilingual telephone operators on the front lines\, helping turn the tide of World War 1. They then returned home to fight a decades-long battle for equality and recognition\, paving the way for future generations. THE HELLO GIRLS was commissioned and premiered by NYC’s Prospect Theater Company to celebrate the centennial of these groundbreaking women.
URL:https://magicvalleyartscouncil.org/event/auditions-the-hello-girls-twin-falls-theatre-collective/2025-05-10/
LOCATION:Twin Falls Theatre Collective\, 310 Main St\, Filer\, ID\, 83328\, United States
CATEGORIES:Community Events,Other Arts Opportunities
END:VEVENT
BEGIN:VEVENT
DTSTART;TZID=America/Boise:20250509T180000
DTEND;TZID=America/Boise:20250509T210000
DTSTAMP:20260421T030447
CREATED:20250418T223034Z
LAST-MODIFIED:20250418T223034Z
UID:10000939-1746813600-1746824400@magicvalleyartscouncil.org
SUMMARY:AUDITIONS: The Hello Girls - Twin Falls Theatre Collective
DESCRIPTION:Audition Dates \n\n\n\nMay 9th from 6-9pm\nMay 10th from 6-9pm\nCallbacks May 11th from 7-9pm\n\nAs long as you check in prior to the end time\, you will be allowed to audition. \nIn-person auditions are located at Twin Falls Theatre Collective. 310 Main St\, Filer\, ID 83328. Additional information and the REQUIRED audition form can be found here: https://twinfallstheatre.com/the-hello-girls-auditions/ \n\n  \nFrom New York to Paris\, from ragtime to jazz\, THE HELLO GIRLS chronicles the story of America’s first women soldiers in this new musical inspired by history. These intrepid heroines served as bilingual telephone operators on the front lines\, helping turn the tide of World War 1. They then returned home to fight a decades-long battle for equality and recognition\, paving the way for future generations. THE HELLO GIRLS was commissioned and premiered by NYC’s Prospect Theater Company to celebrate the centennial of these groundbreaking women.
URL:https://magicvalleyartscouncil.org/event/auditions-the-hello-girls-twin-falls-theatre-collective/2025-05-09/
LOCATION:Twin Falls Theatre Collective\, 310 Main St\, Filer\, ID\, 83328\, United States
CATEGORIES:Community Events,Other Arts Opportunities
END:VEVENT
END:VCALENDAR